BEGIN:VCALENDAR
VERSION:2.0
PRODID:-//Muath Edriss - ECPv6.6.4.2//NONSGML v1.0//EN
CALSCALE:GREGORIAN
METHOD:PUBLISH
X-WR-CALNAME:Muath Edriss
X-ORIGINAL-URL:https://muathedriss.us
X-WR-CALDESC:Events for Muath Edriss
REFRESH-INTERVAL;VALUE=DURATION:PT1H
X-Robots-Tag:noindex
X-PUBLISHED-TTL:PT1H
BEGIN:VTIMEZONE
TZID:UTC
BEGIN:STANDARD
TZOFFSETFROM:+0000
TZOFFSETTO:+0000
TZNAME:UTC
DTSTART:20240101T000000
END:STANDARD
END:VTIMEZONE
BEGIN:VEVENT
DTSTART;TZID=UTC:20240803T080000
DTEND;TZID=UTC:20240804T170000
DTSTAMP:20260425T011952
CREATED:20230703T063730Z
LAST-MODIFIED:20240425T120748Z
UID:923-1722672000-1722790800@muathedriss.us
SUMMARY:London Music Festival
DESCRIPTION:At elementum lorem purus elit\, in nulla lacinia. Phasellus ac\, tortor vestibulum nibh nam sit laoreet\, conubia adipiscing massa orci nec nunc neque\, ipsum laoreet praesent ultricies magna ligula ante\, augue justo et viverra in neque. Porta eu auctor nisl tempor at\, metus varius scelerisque\, wisi sodales accumsan ut scelerisque in vestibulum. Ipsum nulla sed luctus montes amet\, velit vestibulum diam at elit\, amet condimentum tellus dis imperdiet nibh\, metus magna sem tempor amet sed. Odio massa non\, aliquam consequatur fermentum vel nunc\, egestas nulla ultricies phasellus sem sodales\, vehicula facilisis lacinia\, cupidatat fusce sed felis. Pede nec velit pellentesque pulvinar tristique adipiscing\, et fusce id at excepturi enim\, velit at pede dictumst nisl enim\, lobortis egestas fusce euismod nisl convallis\, proin consequat in metus in. Sem ac eu vestibulum\, nunc mauris etiam\, aliquam vitae cras leo vel velit erat. Purus posuere placerat lacus\, enim at ad lectus nulla non nisl\, volutpat in dolor semper labore ac. Quis vivamus odio neque at vehicula velit\, in porttitor sed lacus tincidunt. Quam nec cras\, duis hendrerit nunc amet in lectus\, integer phasellus\, sit quam felis\, optio eros nullam integer curabitur nunc. Ut at suspendisse aenean\, pellentesque sollicitudin\, duis id. Varius vel\, dignissim vitae.
URL:https://muathedriss.us/event/london-music-festival/
LOCATION:London\, London\, United Kingdom
END:VEVENT
BEGIN:VEVENT
DTSTART;TZID=UTC:20240708T080000
DTEND;TZID=UTC:20240709T170000
DTSTAMP:20260425T011952
CREATED:20230703T063636Z
LAST-MODIFIED:20240425T124629Z
UID:921-1720425600-1720544400@muathedriss.us
SUMMARY:Techno Party
DESCRIPTION:At elementum lorem purus elit\, in nulla lacinia. Phasellus ac\, tortor vestibulum nibh nam sit laoreet\, conubia adipiscing massa orci nec nunc neque\, ipsum laoreet praesent ultricies magna ligula ante\, augue justo et viverra in neque. Porta eu auctor nisl tempor at\, metus varius scelerisque\, wisi sodales accumsan ut scelerisque in vestibulum. Ipsum nulla sed luctus montes amet\, velit vestibulum diam at elit\, amet condimentum tellus dis imperdiet nibh\, metus magna sem tempor amet sed. Odio massa non\, aliquam consequatur fermentum vel nunc\, egestas nulla ultricies phasellus sem sodales\, vehicula facilisis lacinia\, cupidatat fusce sed felis. Pede nec velit pellentesque pulvinar tristique adipiscing\, et fusce id at excepturi enim\, velit at pede dictumst nisl enim\, lobortis egestas fusce euismod nisl convallis\, proin consequat in metus in. Sem ac eu vestibulum\, nunc mauris etiam\, aliquam vitae cras leo vel velit erat. Purus posuere placerat lacus\, enim at ad lectus nulla non nisl\, volutpat in dolor semper labore ac. Quis vivamus odio neque at vehicula velit\, in porttitor sed lacus tincidunt. Quam nec cras\, duis hendrerit nunc amet in lectus\, integer phasellus\, sit quam felis\, optio eros nullam integer curabitur nunc. Ut at suspendisse aenean\, pellentesque sollicitudin\, duis id. Varius vel\, dignissim vitae.
URL:https://muathedriss.us/event/techno-party/
LOCATION:Techno Club\, Berlin\, Germany
END:VEVENT
END:VCALENDAR